BEGIN:VCALENDAR
VERSION:2.0
PRODID:SchoolNow
CALSCALE:GREGORIAN
BEGIN:VEVENT
UID:a9ae80ae-d41c-11ef-9ab0-0affd1e096cd
DTSTAMP:20250408T180852Z
SUMMARY:CCC Musical Performance - I'm Getting My Act Together and Taking It
  on the Road
LOCATION:Spencer / Rounds Theatre
URL;VALUE=URI:https://www.coffeyville.edu/student-organizations-and-activit
 ies/fine-arts/calendar/7324717/ccc-musical-performance-im-getting-my-act-t
 ogether-and-taking-it-on-the-road
DTSTART:20250427T200000Z
DTEND:20250427T210000Z
END:VEVENT
END:VCALENDAR
