BEGIN:VCALENDAR
VERSION:2.0
PRODID:SchoolNow
CALSCALE:GREGORIAN
BEGIN:VEVENT
UID:7db0f66a-f46c-11ef-a06f-0e43f444e915
DTSTAMP:20250408T180657Z
SUMMARY:“Getting my act together and taking it on the road” Performance
LOCATION:Spencer Rounds Theatre
URL;VALUE=URI:https://www.coffeyville.edu/student-organizations-and-activit
 ies/fine-arts/calendar/7554052/getting-my-act-together-and-taking-it-on-th
 e-road-performance
DTSTART:20250423T143000Z
DTEND:20250423T160000Z
END:VEVENT
END:VCALENDAR
