BEGIN:VCALENDAR
VERSION:2.0
PRODID:SchoolNow
CALSCALE:GREGORIAN
BEGIN:VEVENT
UID:90a1fecc-f46c-11ef-b3d1-0a58a9feac02
DTSTAMP:20250408T180719Z
SUMMARY:“Getting my act together and taking it on the road” Lunch
LOCATION:Spencer Rounds Theatre
URL;VALUE=URI:https://www.coffeyville.edu/student-organizations-and-activit
 ies/fine-arts/calendar/7554053/getting-my-act-together-and-taking-it-on-th
 e-road-performance-clone
DTSTART:20250423T160000Z
DTEND:20250424T044500Z
END:VEVENT
END:VCALENDAR
