BEGIN:VCALENDAR
VERSION:2.0
PRODID:SchoolNow
CALSCALE:GREGORIAN
BEGIN:VEVENT
UID:9d87faec-f46c-11ef-80ff-0a58a9feac02
DTSTAMP:20250408T175342Z
SUMMARY:“Getting my act together and taking it on the road” Sessions
LOCATION:Spencer Rounds Theatre
URL;VALUE=URI:https://www.coffeyville.edu/student-organizations-and-activit
 ies/fine-arts/calendar/7554054/getting-my-act-together-and-taking-it-on-th
 e-road-performance-clone-clone
DTSTART:20250423T164500Z
DTEND:20250423T183000Z
END:VEVENT
END:VCALENDAR
