BEGIN:VCALENDAR
VERSION:2.0
PRODID:SchoolNow
CALSCALE:GREGORIAN
BEGIN:VEVENT
UID:0eb8e01c-79e9-11f0-af54-0e8b14fcf377
DTSTAMP:20250919T145214Z
SUMMARY:KMEA All State Choir Prep Day
URL;VALUE=URI:https://www.coffeyville.edu/student-organizations-and-activit
 ies/fine-arts/calendar/8511010/kmea-all-state-choir-prep-day
DTSTART:20251001T130000Z
DTEND:20251001T210000Z
END:VEVENT
END:VCALENDAR
