BEGIN:VCALENDAR
VERSION:2.0
PRODID:SchoolNow
CALSCALE:GREGORIAN
BEGIN:VEVENT
UID:29581ffa-79e9-11f0-bbcc-0a58a9feac02
DTSTAMP:20250919T144829Z
SUMMARY:Fall Music Department Concert
LOCATION:Spencer Rounds
URL;VALUE=URI:https://www.coffeyville.edu/student-organizations-and-activit
 ies/fine-arts/calendar/8511011/fall-music-department-concert
DTSTART:20251017T000000Z
DTEND:20251017T010000Z
END:VEVENT
END:VCALENDAR
