BEGIN:VCALENDAR
VERSION:2.0
PRODID:SchoolNow
CALSCALE:GREGORIAN
BEGIN:VEVENT
UID:fdab15e8-d1e0-11ef-9eba-0affcdd4e97d
DTSTAMP:20250113T190253Z
SUMMARY:Last Day to Drop 1st 8 Week Courses
URL;VALUE=URI:https://www.coffeyville.edu/student-services/calendar/7309578
 /last-day-to-drop-1st-8-week-courses
DTSTART:20250221T140000Z
DTEND:20250221T230000Z
END:VEVENT
END:VCALENDAR
