BEGIN:VCALENDAR
VERSION:2.0
PRODID:SchoolNow
CALSCALE:GREGORIAN
BEGIN:VEVENT
UID:fd7f43e6-d8e8-11ef-9724-0affe8e832c5
DTSTAMP:20250122T174746Z
SUMMARY:Pick Up Volleyball - Nellis East (VB Gym)
LOCATION:Nellis East (VB Gym)
URL;VALUE=URI:https://www.coffeyville.edu/student-services/student-life/cal
 endar/7354044/pick-up-volleyball-nellis-east-vb-gym
DTSTART:20250202T200000Z
DTEND:20250202T230000Z
END:VEVENT
END:VCALENDAR
