BEGIN:VCALENDAR
VERSION:2.0
PRODID:SchoolNow
CALSCALE:GREGORIAN
BEGIN:VEVENT
UID:00beda2e-d8eb-11ef-9d47-0affca5437bb
DTSTAMP:20250122T180211Z
SUMMARY:Super Bowl Watch Party
LOCATION:Raven Roost
URL;VALUE=URI:https://www.coffeyville.edu/student-services/student-life/cal
 endar/7354047/super-bowl-watch-party
DTSTART:20250209T230000Z
DTEND:20250210T050000Z
END:VEVENT
END:VCALENDAR
