BEGIN:VCALENDAR
VERSION:2.0
PRODID:SchoolNow
CALSCALE:GREGORIAN
BEGIN:VEVENT
UID:351f9e16-d8eb-11ef-b06b-0affd988a3d5
DTSTAMP:20250122T180439Z
SUMMARY:Paint Night - Student
LOCATION:Student Union Classroom 107
URL;VALUE=URI:https://www.coffeyville.edu/student-services/student-life/cal
 endar/7354048/paint-night-student
DTSTART:20250207T013000Z
DTEND:20250207T030000Z
END:VEVENT
END:VCALENDAR
