BEGIN:VCALENDAR
VERSION:2.0
PRODID:SchoolNow
CALSCALE:GREGORIAN
BEGIN:VEVENT
UID:4f7d7e54-d8eb-11ef-8e94-0affe8e832c5
DTSTAMP:20250122T180423Z
SUMMARY:Karaoke Night
LOCATION:Multimedia Center
URL;VALUE=URI:https://www.coffeyville.edu/student-services/student-life/cal
 endar/7354049/karaoke-night
DTSTART:20250213T020000Z
DTEND:20250213T040000Z
END:VEVENT
END:VCALENDAR
