BEGIN:VCALENDAR
VERSION:2.0
PRODID:SchoolNow
CALSCALE:GREGORIAN
BEGIN:VEVENT
UID:70981d06-d8eb-11ef-9089-0a58a9feac02
DTSTAMP:20250122T180518Z
SUMMARY:Game Night - Family Feud
LOCATION:Classroom WH 129
URL;VALUE=URI:https://www.coffeyville.edu/student-services/student-life/cal
 endar/7354074/game-night-family-feud
DTSTART:20250219T013000Z
DTEND:20250219T030000Z
END:VEVENT
END:VCALENDAR
