BEGIN:VCALENDAR
VERSION:2.0
PRODID:SchoolNow
CALSCALE:GREGORIAN
BEGIN:VEVENT
UID:89f4f526-d8eb-11ef-9068-021410d72da1
DTSTAMP:20250122T180601Z
SUMMARY:Movie Night: Gladiator 2
LOCATION:Multimedia Center
URL;VALUE=URI:https://www.coffeyville.edu/student-services/student-life/cal
 endar/7354080/movie-night-gladiator-2
DTSTART:20250214T010000Z
DTEND:20250214T033000Z
END:VEVENT
END:VCALENDAR
