BEGIN:VCALENDAR
VERSION:2.0
PRODID:SchoolNow
CALSCALE:GREGORIAN
BEGIN:VEVENT
UID:999435be-d8eb-11ef-a6fe-0e0524f8d2d5
DTSTAMP:20250122T180627Z
SUMMARY:Movie Night: Gladiator 2
LOCATION:Multimedia Center
URL;VALUE=URI:https://www.coffeyville.edu/student-services/student-life/cal
 endar/7354081/movie-night-gladiator-2
DTSTART:20250215T010000Z
DTEND:20250215T033000Z
END:VEVENT
END:VCALENDAR
