BEGIN:VCALENDAR
VERSION:2.0
PRODID:SchoolNow
CALSCALE:GREGORIAN
BEGIN:VEVENT
UID:b54da90c-d8eb-11ef-876e-0a58a9feac02
DTSTAMP:20250122T180714Z
SUMMARY:Taste of Black American Culture
LOCATION:Raven Roost
URL;VALUE=URI:https://www.coffeyville.edu/student-services/student-life/cal
 endar/7354082/taste-of-black-american-culture
DTSTART:20250226T013000Z
DTEND:20250226T033000Z
END:VEVENT
END:VCALENDAR
