BEGIN:VCALENDAR
VERSION:2.0
PRODID:SchoolNow
CALSCALE:GREGORIAN
BEGIN:VEVENT
UID:ce305b40-d8eb-11ef-b414-0a58a9feac02
DTSTAMP:20250122T180755Z
SUMMARY:Fight Night: Gervonta Davis vs. Lamont Roach Jr.
LOCATION:Raven Roost
URL;VALUE=URI:https://www.coffeyville.edu/student-services/student-life/cal
 endar/7354083/fight-night-gervonta-davis-vs-lamont-roach-jr
DTSTART:20250302T010000Z
DTEND:20250302T050000Z
END:VEVENT
END:VCALENDAR
