BEGIN:VCALENDAR
VERSION:2.0
PRODID:SchoolNow
CALSCALE:GREGORIAN
BEGIN:VEVENT
UID:e4676bce-d8eb-11ef-be68-02b531e960cd
DTSTAMP:20250122T180833Z
SUMMARY:Movie Night: Wicked
LOCATION:Multimedia Center
URL;VALUE=URI:https://www.coffeyville.edu/student-services/student-life/cal
 endar/7354084/movie-night-wicked
DTSTART:20250221T010000Z
DTEND:20250221T033000Z
END:VEVENT
END:VCALENDAR
