BEGIN:VCALENDAR
VERSION:2.0
PRODID:SchoolNow
CALSCALE:GREGORIAN
BEGIN:VEVENT
UID:f07446f8-d8eb-11ef-a0b8-0e6b2bf4e869
DTSTAMP:20250122T180853Z
SUMMARY:Movie Night: Wicked
LOCATION:Multimedia Center
URL;VALUE=URI:https://www.coffeyville.edu/student-services/student-life/cal
 endar/7354085/movie-night-wicked
DTSTART:20250222T010000Z
DTEND:20250222T033000Z
END:VEVENT
END:VCALENDAR
