BEGIN:VCALENDAR
VERSION:2.0
PRODID:SchoolNow
CALSCALE:GREGORIAN
BEGIN:VEVENT
UID:ff72c490-d8eb-11ef-bd75-0a58a9feac02
DTSTAMP:20250122T180918Z
SUMMARY:Pick Up Volleyball - Nellis East (VB Gym)
LOCATION:Nellis East (VB Gym)
URL;VALUE=URI:https://www.coffeyville.edu/student-services/student-life/cal
 endar/7354086/pick-up-volleyball-nellis-east-vb-gym-clone
DTSTART:20250209T200000Z
DTEND:20250209T230000Z
END:VEVENT
END:VCALENDAR
