BEGIN:VCALENDAR
VERSION:2.0
PRODID:SchoolNow
CALSCALE:GREGORIAN
BEGIN:VEVENT
UID:07d284fe-d8ec-11ef-a9f1-0efe372b7e33
DTSTAMP:20250122T180932Z
SUMMARY:Pick Up Volleyball - Nellis East (VB Gym)
LOCATION:Nellis East (VB Gym)
URL;VALUE=URI:https://www.coffeyville.edu/student-services/student-life/cal
 endar/7354088/pick-up-volleyball-nellis-east-vb-gym-clone
DTSTART:20250223T200000Z
DTEND:20250223T230000Z
END:VEVENT
END:VCALENDAR
