BEGIN:VCALENDAR
VERSION:2.0
PRODID:SchoolNow
CALSCALE:GREGORIAN
BEGIN:VEVENT
UID:0eb55bf2-d8ec-11ef-a91e-0affd988a3d5
DTSTAMP:20250122T180944Z
SUMMARY:Pick Up Volleyball - Nellis East (VB Gym)
LOCATION:Nellis East (VB Gym)
URL;VALUE=URI:https://www.coffeyville.edu/student-services/student-life/cal
 endar/7354089/pick-up-volleyball-nellis-east-vb-gym-clone
DTSTART:20250302T200000Z
DTEND:20250302T230000Z
END:VEVENT
END:VCALENDAR
