BEGIN:VCALENDAR
VERSION:2.0
PRODID:SchoolNow
CALSCALE:GREGORIAN
BEGIN:VEVENT
UID:12df7e1a-d8ec-11ef-8269-0affd988a3d5
DTSTAMP:20250122T180951Z
SUMMARY:Pick Up Volleyball - Nellis East (VB Gym)
LOCATION:Nellis East (VB Gym)
URL;VALUE=URI:https://www.coffeyville.edu/student-services/student-life/cal
 endar/7354090/pick-up-volleyball-nellis-east-vb-gym-clone
DTSTART:20250309T190000Z
DTEND:20250309T220000Z
END:VEVENT
END:VCALENDAR
