BEGIN:VCALENDAR
VERSION:2.0
PRODID:SchoolNow
CALSCALE:GREGORIAN
BEGIN:VEVENT
UID:658adfce-d8ec-11ef-bd7e-0a58a9feac02
DTSTAMP:20250122T181209Z
SUMMARY:Open Gym
LOCATION:Nellis East (VB Gym)
URL;VALUE=URI:https://www.coffeyville.edu/student-services/student-life/cal
 endar/7354091/open-gym
DTSTART:20250204T010000Z
DTEND:20250204T030000Z
END:VEVENT
END:VCALENDAR
