BEGIN:VCALENDAR
VERSION:2.0
PRODID:SchoolNow
CALSCALE:GREGORIAN
BEGIN:VEVENT
UID:6b993e4c-d8ec-11ef-bde1-0a58a9feac02
DTSTAMP:20250122T181220Z
SUMMARY:Open Gym
LOCATION:Nellis East (VB Gym)
URL;VALUE=URI:https://www.coffeyville.edu/student-services/student-life/cal
 endar/7354092/open-gym-clone
DTSTART:20250205T010000Z
DTEND:20250205T030000Z
END:VEVENT
END:VCALENDAR
