BEGIN:VCALENDAR
VERSION:2.0
PRODID:SchoolNow
CALSCALE:GREGORIAN
BEGIN:VEVENT
UID:73a9f2fc-d8ec-11ef-8fc7-0a58a9feac02
DTSTAMP:20250122T181233Z
SUMMARY:Open Gym
LOCATION:Nellis East (VB Gym)
URL;VALUE=URI:https://www.coffeyville.edu/student-services/student-life/cal
 endar/7354094/open-gym-clone
DTSTART:20250212T010000Z
DTEND:20250212T030000Z
END:VEVENT
END:VCALENDAR
