BEGIN:VCALENDAR
VERSION:2.0
PRODID:SchoolNow
CALSCALE:GREGORIAN
BEGIN:VEVENT
UID:77b9041e-d8ec-11ef-8737-0a58a9feac02
DTSTAMP:20250122T181240Z
SUMMARY:Open Gym
LOCATION:Nellis East (VB Gym)
URL;VALUE=URI:https://www.coffeyville.edu/student-services/student-life/cal
 endar/7354095/open-gym-clone
DTSTART:20250218T010000Z
DTEND:20250218T030000Z
END:VEVENT
END:VCALENDAR
