BEGIN:VCALENDAR
VERSION:2.0
PRODID:SchoolNow
CALSCALE:GREGORIAN
BEGIN:VEVENT
UID:7c3c02c0-d8ec-11ef-9f3b-0a58a9feac02
DTSTAMP:20250122T181247Z
SUMMARY:Open Gym
LOCATION:Nellis East (VB Gym)
URL;VALUE=URI:https://www.coffeyville.edu/student-services/student-life/cal
 endar/7354096/open-gym-clone
DTSTART:20250219T010000Z
DTEND:20250219T030000Z
END:VEVENT
END:VCALENDAR
