BEGIN:VCALENDAR
VERSION:2.0
PRODID:SchoolNow
CALSCALE:GREGORIAN
BEGIN:VEVENT
UID:819a17ac-d8ec-11ef-9c5e-02a40193950d
DTSTAMP:20250122T181257Z
SUMMARY:Open Gym
LOCATION:Nellis East (VB Gym)
URL;VALUE=URI:https://www.coffeyville.edu/student-services/student-life/cal
 endar/7354097/open-gym-clone
DTSTART:20250225T010000Z
DTEND:20250225T030000Z
END:VEVENT
END:VCALENDAR
