BEGIN:VCALENDAR
VERSION:2.0
PRODID:SchoolNow
CALSCALE:GREGORIAN
BEGIN:VEVENT
UID:84ffb78a-d8ec-11ef-983c-02d69e2df0dd
DTSTAMP:20250122T181302Z
SUMMARY:Open Gym
LOCATION:Nellis East (VB Gym)
URL;VALUE=URI:https://www.coffeyville.edu/student-services/student-life/cal
 endar/7354098/open-gym-clone
DTSTART:20250226T010000Z
DTEND:20250226T030000Z
END:VEVENT
END:VCALENDAR
