BEGIN:VCALENDAR
VERSION:2.0
PRODID:SchoolNow
CALSCALE:GREGORIAN
BEGIN:VEVENT
UID:a317e738-1658-11f1-90ce-0a58a9feac02
DTSTAMP:20260421T025606Z
SUMMARY:Superbowl Watch Party - Multimedia Center
URL;VALUE=URI:https://www.coffeyville.edu/student-services/student-life/cal
 endar/8884660/superbowl-watch-party-multimedia-center
DTSTART:20260208T233000Z
DTEND:20260209T023000Z
END:VEVENT
END:VCALENDAR
