BEGIN:VCALENDAR
VERSION:2.0
PRODID:SchoolNow
CALSCALE:GREGORIAN
BEGIN:VEVENT
UID:a317f0d4-1658-11f1-893c-0a58a9feac02
DTSTAMP:20260421T025606Z
SUMMARY:Black History Month: Karaoke Night - Multimedia Center
URL;VALUE=URI:https://www.coffeyville.edu/student-services/student-life/cal
 endar/8884668/black-history-month-karaoke-night-multimedia-center
DTSTART:20260220T020000Z
DTEND:20260220T040000Z
END:VEVENT
END:VCALENDAR
