BEGIN:VCALENDAR
VERSION:2.0
PRODID:SchoolNow
CALSCALE:GREGORIAN
BEGIN:VEVENT
UID:a3416054-1658-11f1-b18e-0a58a9feac02
DTSTAMP:20260421T025606Z
SUMMARY:Yarn Club - Raven Roost
URL;VALUE=URI:https://www.coffeyville.edu/student-services/student-life/cal
 endar/8884693/yarn-club-raven-roost
DTSTART:20260226T010000Z
DTEND:20260226T023000Z
END:VEVENT
END:VCALENDAR
