BEGIN:VCALENDAR
VERSION:2.0
PRODID:SchoolNow
CALSCALE:GREGORIAN
BEGIN:VEVENT
UID:a341712a-1658-11f1-ac04-0a58a9feac02
DTSTAMP:20260421T025606Z
SUMMARY:3v3 Basketball - Nellis East
URL;VALUE=URI:https://www.coffeyville.edu/student-services/student-life/cal
 endar/8884700/3v3-basketball-nellis-east
DTSTART:20260218T010000Z
DTEND:20260218T030000Z
END:VEVENT
END:VCALENDAR
