BEGIN:VCALENDAR
VERSION:2.0
PRODID:SchoolNow
CALSCALE:GREGORIAN
BEGIN:VEVENT
UID:f4a0b83e-bee6-11ef-8d3c-0a58a9feac02
DTSTAMP:20250129T163257Z
SUMMARY:Square Dancing Lessons Continues
LOCATION:Nellis Hall\, Room 100 (Choir Room)
URL;VALUE=URI:https://www.coffeyville.edu/visitors/community-classes/calend
 ar/7201307/community-square-dancing-lessons
DTSTART:20250313T230000Z
DTEND:20250314T010000Z
ATTACH;FILENAME=;FMTTYPE=application/octet-stream:
END:VEVENT
END:VCALENDAR
