BEGIN:VCALENDAR
VERSION:2.0
PRODID:SchoolNow
CALSCALE:GREGORIAN
BEGIN:VEVENT
UID:000d37f6-bee7-11ef-825d-0a58a9feac02
DTSTAMP:20250129T163311Z
SUMMARY:Square Dancing Lessons Continues
LOCATION:Nellis Hall\, Room 100 (Choir Room)
URL;VALUE=URI:https://www.coffeyville.edu/visitors/community-classes/calend
 ar/7201309/community-square-dancing-lessons
DTSTART:20250327T230000Z
DTEND:20250328T010000Z
ATTACH;FILENAME=;FMTTYPE=application/octet-stream:
END:VEVENT
END:VCALENDAR
