BEGIN:VCALENDAR
VERSION:2.0
PRODID:SchoolNow
CALSCALE:GREGORIAN
BEGIN:VEVENT
UID:04f5f956-bee7-11ef-a79d-0affc02162f7
DTSTAMP:20250129T163318Z
SUMMARY:Square Dancing Lessons Continues
LOCATION:Nellis Hall\, Room 100 (Choir Room)
URL;VALUE=URI:https://www.coffeyville.edu/visitors/community-classes/calend
 ar/7201310/community-square-dancing-lessons
DTSTART:20250403T230000Z
DTEND:20250404T010000Z
ATTACH;FILENAME=;FMTTYPE=application/octet-stream:
END:VEVENT
END:VCALENDAR
