BEGIN:VCALENDAR
VERSION:2.0
PRODID:SchoolNow
CALSCALE:GREGORIAN
BEGIN:VEVENT
UID:09c8affa-bee7-11ef-9f48-0a58a9feac02
DTSTAMP:20250130T170053Z
SUMMARY:Square Dancing Lessons Continues
LOCATION:Nellis Hall\, Room 100 (Choir Room)
URL;VALUE=URI:https://www.coffeyville.edu/visitors/community-classes/calend
 ar/7201311/community-square-dancing-lessons
DTSTART:20250410T230000Z
DTEND:20250411T010000Z
ATTACH;FILENAME=;FMTTYPE=application/octet-stream:
END:VEVENT
END:VCALENDAR
