BEGIN:VCALENDAR
VERSION:2.0
PRODID:SchoolNow
CALSCALE:GREGORIAN
BEGIN:VEVENT
UID:0f25a8c2-bee7-11ef-8bf9-0a58a9feac02
DTSTAMP:20250130T170103Z
SUMMARY:Square Dancing Lessons Continues
LOCATION:Nellis Hall\, Room 100 (Choir Room)
URL;VALUE=URI:https://www.coffeyville.edu/visitors/community-classes/calend
 ar/7201312/community-square-dancing-lessons
DTSTART:20250417T230000Z
DTEND:20250418T010000Z
ATTACH;FILENAME=;FMTTYPE=application/octet-stream:
END:VEVENT
END:VCALENDAR
