BEGIN:VCALENDAR
VERSION:2.0
PRODID:SchoolNow
CALSCALE:GREGORIAN
BEGIN:VEVENT
UID:1336cb44-bee7-11ef-840c-0a58a9feac02
DTSTAMP:20250129T164005Z
SUMMARY:Square Dancing Trip to Tulsa
LOCATION:Nellis Hall\, Room 100 (Choir Room)
URL;VALUE=URI:https://www.coffeyville.edu/visitors/community-classes/calend
 ar/7201313/community-square-dancing-lessons
DTSTART;VALUE=DATE:20250424
DTEND;VALUE=DATE:20250425
ATTACH;FILENAME=;FMTTYPE=application/octet-stream:
END:VEVENT
END:VCALENDAR
