BEGIN:VCALENDAR
VERSION:2.0
PRODID:SchoolNow
CALSCALE:GREGORIAN
BEGIN:VEVENT
UID:040985ac-de5f-11ef-8a7f-0a58a9feac02
DTSTAMP:20250312T203329Z
SUMMARY:Cake Decorating - Borders and Flowers - Community Class
LOCATION:Oak Room
URL;VALUE=URI:https://www.coffeyville.edu/visitors/community-classes/calend
 ar/7393593/cake-decorating-borders-and-flowers-community-class
DTSTART:20250411T230000Z
DTEND:20250412T000000Z
END:VEVENT
END:VCALENDAR
