BEGIN:VCALENDAR
VERSION:2.0
PRODID:SchoolNow
CALSCALE:GREGORIAN
BEGIN:VEVENT
UID:ae66e402-1a11-11f0-9ffa-0a58a9feac02
DTSTAMP:20250415T155249Z
SUMMARY:Reeves Wood Creations  CCC Doorhanger Workshop
LOCATION:Nellis East - Room 100
URL;VALUE=URI:https://www.coffeyville.edu/visitors/community-classes/calend
 ar/7930941/reeves-wood-creations-ccc-doorhanger-workshop
DTSTART:20250423T230000Z
DTEND:20250424T010000Z
END:VEVENT
END:VCALENDAR
