BEGIN:VCALENDAR
VERSION:2.0
PRODID:SchoolNow
CALSCALE:GREGORIAN
BEGIN:VEVENT
UID:de5606b8-add0-11f0-8da2-0a58a9feac02
DTSTAMP:20251113T193004Z
SUMMARY:Community Class - Wooden Ornaments
LOCATION:Nellis East\, Room 100 (Choir Room)
URL;VALUE=URI:https://www.coffeyville.edu/visitors/community-classes/calend
 ar/8736070/community-class-wooden-ornaments
DTSTART:20251118T000000Z
DTEND:20251118T010000Z
END:VEVENT
END:VCALENDAR
