BEGIN:VCALENDAR
VERSION:2.0
PRODID:SchoolNow
CALSCALE:GREGORIAN
BEGIN:VEVENT
UID:3cf7e824-0d4d-11ea-b4d6-1207bd369035
DTSTAMP:20200316T162110Z
SUMMARY:Humanities Project: Dan Hazlett - Canceled
DESCRIPTION:Canceled
URL;VALUE=URI:https://www.coffeyville.edu/visitors/humanities-project/calen
 dar/2150194/humanities-project-dan-hazlett
DTSTART:20200407T153000Z
DTEND:20200407T165000Z
END:VEVENT
END:VCALENDAR
