BEGIN:VCALENDAR
VERSION:2.0
PRODID:SchoolNow
CALSCALE:GREGORIAN
BEGIN:VEVENT
UID:d6b7c8ca-3c75-11ee-a9b3-0e52cc46207d
DTSTAMP:20230821T141302Z
SUMMARY:Rob McHale - Historical Legends
URL;VALUE=URI:https://www.coffeyville.edu/visitors/humanities-project/calen
 dar/4582471/rob-mchale-historical-legends
DTSTART:20230823T000000Z
DTEND:20230823T010000Z
END:VEVENT
END:VCALENDAR
