BEGIN:VCALENDAR
VERSION:2.0
PRODID:SchoolNow
CALSCALE:GREGORIAN
BEGIN:VEVENT
UID:4339b7ec-3c76-11ee-bc22-0a58a9feac02
DTSTAMP:20230816T204847Z
SUMMARY:Ben Bedford - Songs & Stories of the Illinois Prairie
URL;VALUE=URI:https://www.coffeyville.edu/visitors/humanities-project/calen
 dar/4582472/ben-bedford-songs-stories-of-the-illinois-prairie
DTSTART:20230830T000000Z
DTEND:20230830T010000Z
END:VEVENT
END:VCALENDAR
