BEGIN:VCALENDAR
VERSION:2.0
PRODID:SchoolNow
CALSCALE:GREGORIAN
BEGIN:VEVENT
UID:8ec290e4-3c76-11ee-be56-0a58a9feac02
DTSTAMP:20230816T205039Z
SUMMARY:Dan Bliss - Country Blues
URL;VALUE=URI:https://www.coffeyville.edu/visitors/humanities-project/calen
 dar/4582473/dan-bliss-country-blues
DTSTART:20230913T000000Z
DTEND:20230913T010000Z
END:VEVENT
END:VCALENDAR
