BEGIN:VCALENDAR
VERSION:2.0
PRODID:SchoolNow
CALSCALE:GREGORIAN
BEGIN:VEVENT
UID:8ad22d4a-3c77-11ee-addb-02a2a50e8e7b
DTSTAMP:20230816T205742Z
SUMMARY:Karen Choi - Around the Midwest for Inspiration
URL;VALUE=URI:https://www.coffeyville.edu/visitors/humanities-project/calen
 dar/4582474/karen-choi-around-the-midwest-for-inpiration
DTSTART:20230920T000000Z
DTEND:20230920T010000Z
END:VEVENT
END:VCALENDAR
