BEGIN:VCALENDAR
VERSION:2.0
PRODID:SchoolNow
CALSCALE:GREGORIAN
BEGIN:VEVENT
UID:cf5769d0-3c77-11ee-91b9-0a58a9feac02
DTSTAMP:20230816T205937Z
SUMMARY:Fran Stallings - Stories & Songs from Green Earth
URL;VALUE=URI:https://www.coffeyville.edu/visitors/humanities-project/calen
 dar/4582475/fran-stallings-stories-songs-from-green-earth
DTSTART:20230927T000000Z
DTEND:20230927T010000Z
END:VEVENT
END:VCALENDAR
