BEGIN:VCALENDAR
VERSION:2.0
PRODID:SchoolNow
CALSCALE:GREGORIAN
BEGIN:VEVENT
UID:edb8aa28-3c78-11ee-8ce1-0e52cc46207d
DTSTAMP:20230816T210737Z
SUMMARY:Steve Brooks | Waltz Across Texas
URL;VALUE=URI:https://www.coffeyville.edu/visitors/humanities-project/calen
 dar/4582533/steve-brooks-waltz-across-texas
DTSTART:20231004T000000Z
DTEND:20231004T010000Z
END:VEVENT
END:VCALENDAR
