BEGIN:VCALENDAR
VERSION:2.0
PRODID:SchoolNow
CALSCALE:GREGORIAN
BEGIN:VEVENT
UID:e27e92b8-402d-11ee-85af-0a1eee6d3ccd
DTSTAMP:20230821T142031Z
SUMMARY:Nina Ricci - Gateway to Country Music
URL;VALUE=URI:https://www.coffeyville.edu/visitors/humanities-project/calen
 dar/4603119/nina-ricci-gateway-to-country-music
DTSTART:20231011T000000Z
DTEND:20231011T010000Z
END:VEVENT
END:VCALENDAR
